BEGIN:VCALENDAR
VERSION:2.0
PRODID:-//jEvents 2.0 for Joomla//EN
CALSCALE:GREGORIAN
METHOD:PUBLISH
BEGIN:VEVENT
UID:b6f3f33593202ed50c6920a1eeb95113
CATEGORIES:TT Geburtstag
CREATED:20201014T192909
SUMMARY:Geb Julius
DESCRIPTION:
DTSTAMP:20260424T143724
DTSTART;TZID=Europe/Berlin;VALUE=DATE:20410612
DTEND;TZID=Europe/Berlin;VALUE=DATE:20410613
SEQUENCE:0
TRANSP:OPAQUE
END:VEVENT
END:VCALENDAR